BEGIN:VCALENDAR
VERSION:2.0
PRODID:-//DPSG St. Altfrid - ECPv6.10.2//NONSGML v1.0//EN
CALSCALE:GREGORIAN
METHOD:PUBLISH
X-ORIGINAL-URL:https://dpsg-altfrid.de
X-WR-CALDESC:Veranstaltungen für DPSG St. Altfrid
REFRESH-INTERVAL;VALUE=DURATION:PT1H
X-Robots-Tag:noindex
X-PUBLISHED-TTL:PT1H
BEGIN:VTIMEZONE
TZID:Europe/Berlin
BEGIN:DAYLIGHT
TZOFFSETFROM:+0100
TZOFFSETTO:+0200
TZNAME:CEST
DTSTART:20260329T010000
END:DAYLIGHT
BEGIN:STANDARD
TZOFFSETFROM:+0200
TZOFFSETTO:+0100
TZNAME:CET
DTSTART:20261025T010000
END:STANDARD
END:VTIMEZONE
BEGIN:VEVENT
DTSTART;VALUE=DATE:20260522
DTEND;VALUE=DATE:20260527
DTSTAMP:20260422T194100
CREATED:20260318T164934Z
LAST-MODIFIED:20260318T164934Z
UID:453-1779408000-1779839999@dpsg-altfrid.de
SUMMARY:EMNO Bezirkspfingstlager
DESCRIPTION:
URL:https://dpsg-altfrid.de/termin/emno-bezirkspfingstlager/
CATEGORIES:Stamm
END:VEVENT
END:VCALENDAR